BEGIN:VCALENDAR
VERSION:2.0
PRODID:icalendar-ruby
CALSCALE:GREGORIAN
METHOD:PUBLISH
BEGIN:VEVENT
DTSTAMP:20260423T140157Z
UID:176-309553@wcfchurch.org
DTSTART:20260509T193000Z
DTEND:20260509T230000Z
CLASS:PUBLIC
CREATED:20260422T131217
DESCRIPTION:Join WCF for an all-church picnic on Saturday\, May 9 from 3-7
 :30 pm at Hains Point picnic area site C\, next to the East Potomac Park 
 playground on Hains Point in DC (see directions below). \nIf you plan to 
 attend\, please bring a side dish\, chips or dessert. Sign up here to mak
 e sure we have an assortment — and indicate if you are willing to grill.
  Also sign up if you need a ride or you can give a ride to Hains Point! 
 \nFellowship commission will supply the main dish\, drinks\, and paper pro
 ducts.\nPicnicers\, please feel free to bring frisbee\, yard games\, and f
 olding chairs. There is a playground at the site for kids. \n \nDirectio
 ns\nFrom 395 North:\nTake 395 NORTH across the 14th Street Bridge. Take Ex
 it #2 POTOMAC PARK/PARK POLICE. Follow the signs towards Hains Point. Turn
  Left onto Buckeye Dr. Take a right onto Ohio Dr. Keep straight to the tip
  of the point. The picnic area is fenced in where the two playgrounds are 
 located.\nFrom 395 South:\nTake the Exit #2 towards POTOMAC PARK/PARK POLI
 CE. Turn right at the end of the ramp onto Ohio Drive. Follow the signs to
 wards Hains Point. Keep straight to the tip of the point. The picnic area 
 is fenced in where the two playgrounds are located. \nSee map image. Ther
 e is some parking in the highlighted area just below the picnic area.
LAST-MODIFIED:20260422T131217
LOCATION:Hains Point\, 2301 Ohio Dr SW\, Washington\, DC 20024
SUMMARY:All Church Picnic
URL;VALUE=URI:https://www.wcfchurch.org/events/all-church-picnic/2026-05-09
ATTACH;FILENAME=Picnic graphics (2).png;FMTTYPE=image/png:https://dq5pwpg1q
 8ru0.cloudfront.net/2026/04/22/17/12/17/4f76dca1-62c8-4667-bbca-c22e88a76a
 eb/Picnic%20graphics%20(2).png
ATTACH;FILENAME=Hains Point.png;FMTTYPE=image/png:https://dq5pwpg1q8ru0.clo
 udfront.net/2026/04/22/17/12/17/b5cc113d-5fc8-4aec-9d6d-cde640135eb8/Hains
 %20Point.png
END:VEVENT
END:VCALENDAR
