BEGIN:VCALENDAR
VERSION:2.0
PRODID:icalendar-ruby
CALSCALE:GREGORIAN
METHOD:PUBLISH
BEGIN:VEVENT
DTSTAMP:20260423T140018Z
UID:178-309239@wcfchurch.org
DTSTART:20260517T153000Z
DTEND:20260517T170000Z
CLASS:PUBLIC
CREATED:20260422T123005
DESCRIPTION:If you’re newer to WCF—or still discerning whether this com
 munity might be a place to belong—Discover WCF is a great next step.\n\n
 This is a relaxed\, post-service gathering over 90 minutes where you can h
 ear our story\, meet some of our leaders\, and explore what it looks like 
 to follow Jesus together here.\n\nThere’s no pressure to commit—just s
 pace to connect\, ask questions\, and take a next step at your own pace.\n
 Sunday\, May 17\, right after the service in the Glick Room.
LAST-MODIFIED:20260422T123005
LOCATION:Glick Room
SUMMARY:Discover WCF
URL;VALUE=URI:https://www.wcfchurch.org/events/discover-wcf/2026-05-17
ATTACH;FILENAME=Discover WCF Branding.png;FMTTYPE=image/png:https://dq5pwpg
 1q8ru0.cloudfront.net/2026/04/22/16/30/05/d8d27b1f-dd78-4694-a543-7a8526ed
 5bb7/Discover%20WCF%20Branding.png
END:VEVENT
END:VCALENDAR
